BEGIN:VCALENDAR
PRODID:-//eluceo/ical//2.0/EN
VERSION:2.0
CALSCALE:GREGORIAN
BEGIN:VEVENT
UID:2abfa9c1daefb65a8aa52d940bbd4df6
DTSTAMP:20260422T195244Z
SUMMARY:Plaudermeeting
DESCRIPTION:
URL:https://gastein.rotary.at/de/agenda/show/128682
DTSTART;TZID=Europe/Zurich:20250603T190000
DTEND;TZID=Europe/Zurich:20250603T210000
LOCATION:Gastein Alm
CATEGORIES:Rotary
END:VEVENT
BEGIN:VTIMEZONE
TZID:Europe/Zurich
BEGIN:DAYLIGHT
DTSTART:20250603T190000
TZNAME:CEST
TZOFFSETTO:+0200
TZOFFSETFROM:+0200
END:DAYLIGHT
END:VTIMEZONE
END:VCALENDAR
